{"text_format":"1","workbook":"xlsx","n_sheets":2,"sheets":["ガントチャート","情報"],"not_rendered":{"charts":0,"images":0,"macros":0,"external_links":0,"defined_names":3,"comments":0,"pivot_tables":0},"unopened":[],"bounds":{"document_bytes":16777216,"sheet_cells":100000,"rows_first":2000,"rows_last":500,"rows_between":2000,"halvings":0,"cell_chars":16384,"cell_head_chars":4096},"cells_cut":0,"cells_raw":0,"read":"whole","date_system":"1900"}

{"sheet":"ガントチャート","index":0,"n_rows":31,"n_cols":161,"rows_kept":31,"cut":false,"hidden":false,"merged":[[2,133,2,160],[2,102,2,132],[1,102,1,160],[2,71,2,101],[2,10,2,40],[2,41,2,70],[1,10,1,101]]}
[]
[null,null,null,null,null,null,null,null,null,null,{"$f":"DATE(情報!$B$7,情報!$C$7,COLUMN()-10)","v":"2020-10-01"},null,null,null,null,null,null,null,null,null,null,null,null,null,null,null,null,null,null,null,null,null,null,null,null,null,null,null,null,null,null,null,null,null,null,null,null,null,null,null,null,null,null,null,null,null,null,null,null,null,null,null,null,null,null,null,null,null,null,null,null,null,null,null,null,null,null,null,null,null,null,null,null,null,null,null,null,null,null,null,null,null,null,null,null,null,null,null,null,null,null,null,{"$f":"DATE(情報!$B$7,情報!$C$7,COLUMN()-10)","v":"2021-01-01"}]
[null,null,null,null,null,null,null,null,null,null,{"$f":"DATE(情報!$B$7,情報!$C$7,COLUMN()-10)","v":"2020-10-01"},null,null,null,null,null,null,null,null,null,null,null,null,null,null,null,null,null,null,null,null,null,null,null,null,null,null,null,null,null,null,{"$f":"DATE(情報!$B$7,情報!$C$7,COLUMN()-10)","v":"2020-11-01"},null,null,null,null,null,null,null,null,null,null,null,null,null,null,null,null,null,null,null,null,null,null,null,null,null,null,null,null,null,{"$f":"DATE(情報!$B$7,情報!$C$7,COLUMN()-10)","v":"2020-12-01"},null,null,null,null,null,null,null,null,null,null,null,null,null,null,null,null,null,null,null,null,null,null,null,null,null,null,null,null,null,null,{"$f":"DATE(情報!$B$7,情報!$C$7,COLUMN()-10)","v":"2021-01-01"},null,null,null,null,null,null,null,null,null,null,null,null,null,null,null,null,null,null,null,null,null,null,null,null,null,null,null,null,null,null,{"$f":"DATE(情報!$B$7,情報!$C$7,COLUMN()-10)","v":"2021-02-01"}]
[null,"タスクID","課","担当者","内容","開始日","終了予定日","進捗状況","備考",null,{"$f":"DATE(情報!$B$7,情報!$C$7,COLUMN()-10)","v":"2020-10-01"},{"$f":"DATE(情報!$B$7,情報!$C$7,COLUMN()-10)","v":"2020-10-02"},{"$f":"DATE(情報!$B$7,情報!$C$7,COLUMN()-10)","v":"2020-10-03"},{"$f":"DATE(情報!$B$7,情報!$C$7,COLUMN()-10)","v":"2020-10-04"},{"$f":"DATE(情報!$B$7,情報!$C$7,COLUMN()-10)","v":"2020-10-05"},{"$f":"DATE(情報!$B$7,情報!$C$7,COLUMN()-10)","v":"2020-10-06"},{"$f":"DATE(情報!$B$7,情報!$C$7,COLUMN()-10)","v":"2020-10-07"},{"$f":"DATE(情報!$B$7,情報!$C$7,COLUMN()-10)","v":"2020-10-08"},{"$f":"DATE(情報!$B$7,情報!$C$7,COLUMN()-10)","v":"2020-10-09"},{"$f":"DATE(情報!$B$7,情報!$C$7,COLUMN()-10)","v":"2020-10-10"},{"$f":"DATE(情報!$B$7,情報!$C$7,COLUMN()-10)","v":"2020-10-11"},{"$f":"DATE(情報!$B$7,情報!$C$7,COLUMN()-10)","v":"2020-10-12"},{"$f":"DATE(情報!$B$7,情報!$C$7,COLUMN()-10)","v":"2020-10-13"},{"$f":"DATE(情報!$B$7,情報!$C$7,COLUMN()-10)","v":"2020-10-14"},{"$f":"DATE(情報!$B$7,情報!$C$7,COLUMN()-10)","v":"2020-10-15"},{"$f":"DATE(情報!$B$7,情報!$C$7,COLUMN()-10)","v":"2020-10-16"},{"$f":"DATE(情報!$B$7,情報!$C$7,COLUMN()-10)","v":"2020-10-17"},{"$f":"DATE(情報!$B$7,情報!$C$7,COLUMN()-10)","v":"2020-10-18"},{"$f":"DATE(情報!$B$7,情報!$C$7,COLUMN()-10)","v":"2020-10-19"},{"$f":"DATE(情報!$B$7,情報!$C$7,COLUMN()-10)","v":"2020-10-20"},{"$f":"DATE(情報!$B$7,情報!$C$7,COLUMN()-10)","v":"2020-10-21"},{"$f":"DATE(情報!$B$7,情報!$C$7,COLUMN()-10)","v":"2020-10-22"},{"$f":"DATE(情報!$B$7,情報!$C$7,COLUMN()-10)","v":"2020-10-23"},{"$f":"DATE(情報!$B$7,情報!$C$7,COLUMN()-10)","v":"2020-10-24"},{"$f":"DATE(情報!$B$7,情報!$C$7,COLUMN()-10)","v":"2020-10-25"},{"$f":"DATE(情報!$B$7,情報!$C$7,COLUMN()-10)","v":"2020-10-26"},{"$f":"DATE(情報!$B$7,情報!$C$7,COLUMN()-10)","v":"2020-10-27"},{"$f":"DATE(情報!$B$7,情報!$C$7,COLUMN()-10)","v":"2020-10-28"},{"$f":"DATE(情報!$B$7,情報!$C$7,COLUMN()-10)","v":"2020-10-29"},{"$f":"DATE(情報!$B$7,情報!$C$7,COLUMN()-10)","v":"2020-10-30"},{"$f":"DATE(情報!$B$7,情報!$C$7,COLUMN()-10)","v":"2020-10-31"},{"$f":"DATE(情報!$B$7,情報!$C$7,COLUMN()-10)","v":"2020-11-01"},{"$f":"DATE(情報!$B$7,情報!$C$7,COLUMN()-10)","v":"2020-11-02"},{"$f":"DATE(情報!$B$7,情報!$C$7,COLUMN()-10)","v":"2020-11-03"},{"$f":"DATE(情報!$B$7,情報!$C$7,COLUMN()-10)","v":"2020-11-04"},{"$f":"DATE(情報!$B$7,情報!$C$7,COLUMN()-10)","v":"2020-11-05"},{"$f":"DATE(情報!$B$7,情報!$C$7,COLUMN()-10)","v":"2020-11-06"},{"$f":"DATE(情報!$B$7,情報!$C$7,COLUMN()-10)","v":"2020-11-07"},{"$f":"DATE(情報!$B$7,情報!$C$7,COLUMN()-10)","v":"2020-11-08"},{"$f":"DATE(情報!$B$7,情報!$C$7,COLUMN()-10)","v":"2020-11-09"},{"$f":"DATE(情報!$B$7,情報!$C$7,COLUMN()-10)","v":"2020-11-10"},{"$f":"DATE(情報!$B$7,情報!$C$7,COLUMN()-10)","v":"2020-11-11"},{"$f":"DATE(情報!$B$7,情報!$C$7,COLUMN()-10)","v":"2020-11-12"},{"$f":"DATE(情報!$B$7,情報!$C$7,COLUMN()-10)","v":"2020-11-13"},{"$f":"DATE(情報!$B$7,情報!$C$7,COLUMN()-10)","v":"2020-11-14"},{"$f":"DATE(情報!$B$7,情報!$C$7,COLUMN()-10)","v":"2020-11-15"},{"$f":"DATE(情報!$B$7,情報!$C$7,COLUMN()-10)","v":"2020-11-16"},{"$f":"DATE(情報!$B$7,情報!$C$7,COLUMN()-10)","v":"2020-11-17"},{"$f":"DATE(情報!$B$7,情報!$C$7,COLUMN()-10)","v":"2020-11-18"},{"$f":"DATE(情報!$B$7,情報!$C$7,COLUMN()-10)","v":"2020-11-19"},{"$f":"DATE(情報!$B$7,情報!$C$7,COLUMN()-10)","v":"2020-11-20"},{"$f":"DATE(情報!$B$7,情報!$C$7,COLUMN()-10)","v":"2020-11-21"},{"$f":"DATE(情報!$B$7,情報!$C$7,COLUMN()-10)","v":"2020-11-22"},{"$f":"DATE(情報!$B$7,情報!$C$7,COLUMN()-10)","v":"2020-11-23"},{"$f":"DATE(情報!$B$7,情報!$C$7,COLUMN()-10)","v":"2020-11-24"},{"$f":"DATE(情報!$B$7,情報!$C$7,COLUMN()-10)","v":"2020-11-25"},{"$f":"DATE(情報!$B$7,情報!$C$7,COLUMN()-10)","v":"2020-11-26"},{"$f":"DATE(情報!$B$7,情報!$C$7,COLUMN()-10)","v":"2020-11-27"},{"$f":"DATE(情報!$B$7,情報!$C$7,COLUMN()-10)","v":"2020-11-28"},{"$f":"DATE(情報!$B$7,情報!$C$7,COLUMN()-10)","v":"2020-11-29"},{"$f":"DATE(情報!$B$7,情報!$C$7,COLUMN()-10)","v":"2020-11-30"},{"$f":"DATE(情報!$B$7,情報!$C$7,COLUMN()-10)","v":"2020-12-01"},{"$f":"DATE(情報!$B$7,情報!$C$7,COLUMN()-10)","v":"2020-12-02"},{"$f":"DATE(情報!$B$7,情報!$C$7,COLUMN()-10)","v":"2020-12-03"},{"$f":"DATE(情報!$B$7,情報!$C$7,COLUMN()-10)","v":"2020-12-04"},{"$f":"DATE(情報!$B$7,情報!$C$7,COLUMN()-10)","v":"2020-12-05"},{"$f":"DATE(情報!$B$7,情報!$C$7,COLUMN()-10)","v":"2020-12-06"},{"$f":"DATE(情報!$B$7,情報!$C$7,COLUMN()-10)","v":"2020-12-07"},{"$f":"DATE(情報!$B$7,情報!$C$7,COLUMN()-10)","v":"2020-12-08"},{"$f":"DATE(情報!$B$7,情報!$C$7,COLUMN()-10)","v":"2020-12-09"},{"$f":"DATE(情報!$B$7,情報!$C$7,COLUMN()-10)","v":"2020-12-10"},{"$f":"DATE(情報!$B$7,情報!$C$7,COLUMN()-10)","v":"2020-12-11"},{"$f":"DATE(情報!$B$7,情報!$C$7,COLUMN()-10)","v":"2020-12-12"},{"$f":"DATE(情報!$B$7,情報!$C$7,COLUMN()-10)","v":"2020-12-13"},{"$f":"DATE(情報!$B$7,情報!$C$7,COLUMN()-10)","v":"2020-12-14"},{"$f":"DATE(情報!$B$7,情報!$C$7,COLUMN()-10)","v":"2020-12-15"},{"$f":"DATE(情報!$B$7,情報!$C$7,COLUMN()-10)","v":"2020-12-16"},{"$f":"DATE(情報!$B$7,情報!$C$7,COLUMN()-10)","v":"2020-12-17"},{"$f":"DATE(情報!$B$7,情報!$C$7,COLUMN()-10)","v":"2020-12-18"},{"$f":"DATE(情報!$B$7,情報!$C$7,COLUMN()-10)","v":"2020-12-19"},{"$f":"DATE(情報!$B$7,情報!$C$7,COLUMN()-10)","v":"2020-12-20"},{"$f":"DATE(情報!$B$7,情報!$C$7,COLUMN()-10)","v":"2020-12-21"},{"$f":"DATE(情報!$B$7,情報!$C$7,COLUMN()-10)","v":"2020-12-22"},{"$f":"DATE(情報!$B$7,情報!$C$7,COLUMN()-10)","v":"2020-12-23"},{"$f":"DATE(情報!$B$7,情報!$C$7,COLUMN()-10)","v":"2020-12-24"},{"$f":"DATE(情報!$B$7,情報!$C$7,COLUMN()-10)","v":"2020-12-25"},{"$f":"DATE(情報!$B$7,情報!$C$7,COLUMN()-10)","v":"2020-12-26"},{"$f":"DATE(情報!$B$7,情報!$C$7,COLUMN()-10)","v":"2020-12-27"},{"$f":"DATE(情報!$B$7,情報!$C$7,COLUMN()-10)","v":"2020-12-28"},{"$f":"DATE(情報!$B$7,情報!$C$7,COLUMN()-10)","v":"2020-12-29"},{"$f":"DATE(情報!$B$7,情報!$C$7,COLUMN()-10)","v":"2020-12-30"},{"$f":"DATE(情報!$B$7,情報!$C$7,COLUMN()-10)","v":"2020-12-31"},{"$f":"DATE(情報!$B$7,情報!$C$7,COLUMN()-10)","v":"2021-01-01"},{"$f":"DATE(情報!$B$7,情報!$C$7,COLUMN()-10)","v":"2021-01-02"},{"$f":"DATE(情報!$B$7,情報!$C$7,COLUMN()-10)","v":"2021-01-03"},{"$f":"DATE(情報!$B$7,情報!$C$7,COLUMN()-10)","v":"2021-01-04"},{"$f":"DATE(情報!$B$7,情報!$C$7,COLUMN()-10)","v":"2021-01-05"},{"$f":"DATE(情報!$B$7,情報!$C$7,COLUMN()-10)","v":"2021-01-06"},{"$f":"DATE(情報!$B$7,情報!$C$7,COLUMN()-10)","v":"2021-01-07"},{"$f":"DATE(情報!$B$7,情報!$C$7,COLUMN()-10)","v":"2021-01-08"},{"$f":"DATE(情報!$B$7,情報!$C$7,COLUMN()-10)","v":"2021-01-09"},{"$f":"DATE(情報!$B$7,情報!$C$7,COLUMN()-10)","v":"2021-01-10"},{"$f":"DATE(情報!$B$7,情報!$C$7,COLUMN()-10)","v":"2021-01-11"},{"$f":"DATE(情報!$B$7,情報!$C$7,COLUMN()-10)","v":"2021-01-12"},{"$f":"DATE(情報!$B$7,情報!$C$7,COLUMN()-10)","v":"2021-01-13"},{"$f":"DATE(情報!$B$7,情報!$C$7,COLUMN()-10)","v":"2021-01-14"},{"$f":"DATE(情報!$B$7,情報!$C$7,COLUMN()-10)","v":"2021-01-15"},{"$f":"DATE(情報!$B$7,情報!$C$7,COLUMN()-10)","v":"2021-01-16"},{"$f":"DATE(情報!$B$7,情報!$C$7,COLUMN()-10)","v":"2021-01-17"},{"$f":"DATE(情報!$B$7,情報!$C$7,COLUMN()-10)","v":"2021-01-18"},{"$f":"DATE(情報!$B$7,情報!$C$7,COLUMN()-10)","v":"2021-01-19"},{"$f":"DATE(情報!$B$7,情報!$C$7,COLUMN()-10)","v":"2021-01-20"},{"$f":"DATE(情報!$B$7,情報!$C$7,COLUMN()-10)","v":"2021-01-21"},{"$f":"DATE(情報!$B$7,情報!$C$7,COLUMN()-10)","v":"2021-01-22"},{"$f":"DATE(情報!$B$7,情報!$C$7,COLUMN()-10)","v":"2021-01-23"},{"$f":"DATE(情報!$B$7,情報!$C$7,COLUMN()-10)","v":"2021-01-24"},{"$f":"DATE(情報!$B$7,情報!$C$7,COLUMN()-10)","v":"2021-01-25"},{"$f":"DATE(情報!$B$7,情報!$C$7,COLUMN()-10)","v":"2021-01-26"},{"$f":"DATE(情報!$B$7,情報!$C$7,COLUMN()-10)","v":"2021-01-27"},{"$f":"DATE(情報!$B$7,情報!$C$7,COLUMN()-10)","v":"2021-01-28"},{"$f":"DATE(情報!$B$7,情報!$C$7,COLUMN()-10)","v":"2021-01-29"},{"$f":"DATE(情報!$B$7,情報!$C$7,COLUMN()-10)","v":"2021-01-30"},{"$f":"DATE(情報!$B$7,情報!$C$7,COLUMN()-10)","v":"2021-01-31"},{"$f":"DATE(情報!$B$7,情報!$C$7,COLUMN()-10)","v":"2021-02-01"},{"$f":"DATE(情報!$B$7,情報!$C$7,COLUMN()-10)","v":"2021-02-02"},{"$f":"DATE(情報!$B$7,情報!$C$7,COLUMN()-10)","v":"2021-02-03"},{"$f":"DATE(情報!$B$7,情報!$C$7,COLUMN()-10)","v":"2021-02-04"},{"$f":"DATE(情報!$B$7,情報!$C$7,COLUMN()-10)","v":"2021-02-05"},{"$f":"DATE(情報!$B$7,情報!$C$7,COLUMN()-10)","v":"2021-02-06"},{"$f":"DATE(情報!$B$7,情報!$C$7,COLUMN()-10)","v":"2021-02-07"},{"$f":"DATE(情報!$B$7,情報!$C$7,COLUMN()-10)","v":"2021-02-08"},{"$f":"DATE(情報!$B$7,情報!$C$7,COLUMN()-10)","v":"2021-02-09"},{"$f":"DATE(情報!$B$7,情報!$C$7,COLUMN()-10)","v":"2021-02-10"},{"$f":"DATE(情報!$B$7,情報!$C$7,COLUMN()-10)","v":"2021-02-11"},{"$f":"DATE(情報!$B$7,情報!$C$7,COLUMN()-10)","v":"2021-02-12"},{"$f":"DATE(情報!$B$7,情報!$C$7,COLUMN()-10)","v":"2021-02-13"},{"$f":"DATE(情報!$B$7,情報!$C$7,COLUMN()-10)","v":"2021-02-14"},{"$f":"DATE(情報!$B$7,情報!$C$7,COLUMN()-10)","v":"2021-02-15"},{"$f":"DATE(情報!$B$7,情報!$C$7,COLUMN()-10)","v":"2021-02-16"},{"$f":"DATE(情報!$B$7,情報!$C$7,COLUMN()-10)","v":"2021-02-17"},{"$f":"DATE(情報!$B$7,情報!$C$7,COLUMN()-10)","v":"2021-02-18"},{"$f":"DATE(情報!$B$7,情報!$C$7,COLUMN()-10)","v":"2021-02-19"},{"$f":"DATE(情報!$B$7,情報!$C$7,COLUMN()-10)","v":"2021-02-20"},{"$f":"DATE(情報!$B$7,情報!$C$7,COLUMN()-10)","v":"2021-02-21"},{"$f":"DATE(情報!$B$7,情報!$C$7,COLUMN()-10)","v":"2021-02-22"},{"$f":"DATE(情報!$B$7,情報!$C$7,COLUMN()-10)","v":"2021-02-23"},{"$f":"DATE(情報!$B$7,情報!$C$7,COLUMN()-10)","v":"2021-02-24"},{"$f":"DATE(情報!$B$7,情報!$C$7,COLUMN()-10)","v":"2021-02-25"},{"$f":"DATE(情報!$B$7,情報!$C$7,COLUMN()-10)","v":"2021-02-26"},{"$f":"DATE(情報!$B$7,情報!$C$7,COLUMN()-10)","v":"2021-02-27"},{"$f":"DATE(情報!$B$7,情報!$C$7,COLUMN()-10)","v":"2021-02-28"}]
[null,null,"全員","全員","冬休み","2020-12-26","2021-01-03","待ち"]
[null,null,"全員","全員","詳細設計","2020-10-21","2020-11-11"]
[null,null,"全員","佐藤","購入物品リスト化","2020-10-14","2020-10-16"]
[null,null,"ソフト","ソフト全員","基本設計","2020-10-21","2020-10-28"]
[null,null,"ソフト","ソフト全員","詳細設計","2020-10-29","2020-11-11"]
[null,null,"ソフト","森下","走行プログラム","2020-11-13","2020-11-27"]
[null,null,"ソフト","川村","LEDの点灯","2020-11-13","2020-11-27"]
[null,null,"ソフト","森下","机についたマーカーの認識","2020-11-18","2020-12-02"]
[null,null,"ソフト","秋山","昇降板の上下機能","2020-11-13","2020-11-27"]
[null,null,"ソフト","森下","消毒済みかどうかの記録","2020-11-18","2020-12-02"]
[null,null,"ソフト","ソフト全員","統合実装","2020-12-04","2020-12-08"]
[null,null,"ソフト","ソフト全員","動作テスト・調整","2020-12-04","2020-12-08"]
[null,null,"メカ","メカ全員","基本設計","2020-10-14","2020-10-28"]
[null,null,"メカ","メカ全員","詳細設計","2020-10-29","2020-11-11"]
[null,null,"メカ","齋藤","全体構造図の作成","2020-10-14","2020-10-17"]
[null,null,"メカ","齋藤","各部の名称","2020-10-14","2020-10-17"]
[null,null,"メカ","齋藤","主要サイズの計測","2020-10-14","2020-10-17"]
[null,null,"メカ","袴田","昇降機構用滑車の設計・試作","2020-10-14","2020-10-31"]
[null,null,"メカ","袴田","昇降機構用滑車の製作","2020-11-01","2020-12-01"]
[null,null,"メカ","メカ全員","外装の組み立て","2020-11-01","2020-12-01"]
[null,null,"メカ","メカ全員","全体の組み立て","2020-12-01","2020-12-24"]
[null,null,"メカ","メカ全員","全体調整","2021-01-15","2021-01-31"]
[null,null,"エレキ","エレキ全員","基本設計","2020-10-21","2020-10-28"]
[null,null,"エレキ","エレキ全員","詳細設計","2020-10-29","2020-11-11"]
[null,null,"エレキ","望月","緊急停止スイッチの作成","2020-11-02","2020-11-06"]
[null,null,"エレキ","中村","電源線・信号線延長","2020-11-02","2020-11-06"]
[null,null,"全員","全員","結合テスト","2021-01-05","2021-01-14"]

{"sheet":"情報","index":1,"n_rows":11,"n_cols":14,"rows_kept":11,"cut":false,"hidden":false,"merged":[[0,6,0,11],[5,1,5,2],[7,1,7,2]]}
[null,null,null,null,null,null,"担当者入力欄(列ごと別の表です)"]
[null,"開始日","終了日",null,null,null,"全員","エレキ","ソフト","メカ",null,null,null,"進捗"]
[null,"2020-10-01","2021-02-28",null,null,null,"秋山","中村","秋山","佐藤",null,null,null,"待ち"]
[null,null,null,null,null,null,"川村","望月","川村","齋藤",null,null,null,"進行"]
[null,null,null,null,null,null,"佐藤","川村","森下","袴田",null,null,null,"停止"]
[null,"カレンダー開始(年,月)",null,null,null,null,"齋藤","エレキ全員","ソフト全員","メカ全員",null,null,null,"完了"]
[null,2020,10,null,null,null,"袴田",null,null,null,null,null,null,"遅延"]
[null,"※罫線やセル結合は手動で再設定する必要あり",null,null,null,null,"中村"]
[null,null,null,null,null,null,"望月"]
[null,null,null,null,null,null,"森下"]
[null,null,null,null,null,null,"全員"]